BEGIN:VCALENDAR
VERSION:2.0
PRODID:-//SwingAround//EN
BEGIN:VEVENT
DTSTART;VALUE=DATE:20260515
DTEND;VALUE=DATE:20260518
SUMMARY:Garage Hoppers Festival 2026
DESCRIPTION:The festival hosts 4 amazing lindy hop couples and a fantastic band across three days. 3 PARTIES: Friday, Saturday, and Sunday (free). Sunday farewell party at Giardini Luzzati.
LOCATION:Tower Genova Airport - Hotel & Conference Center, Via Pionieri e Aviatori d'Italia, 44, Genova, Italy
URL:https://swingaround.app/events/garage-hoppers-festival-2026
UID:event-179@swingaround.com
END:VEVENT
END:VCALENDAR
