BEGIN:VCALENDAR
VERSION:2.0
PRODID:-//SwingAround//EN
BEGIN:VEVENT
DTSTART;VALUE=DATE:20260417
DTEND;VALUE=DATE:20260420
SUMMARY:Gentse Hoppers Exchange 2026
DESCRIPTION:A lindy hop &amp; jazz arcade where the floor feels like a level map, breaks unlock bonus rounds. Creative footwork, atmospheric details, and hidden surprises woven throughout the social dancing ex...
LOCATION:Ghent, Belgium
URL:https://swingaround.app/events/gentse-hoppers-exchange-2026
UID:event-151@swingaround.com
END:VEVENT
END:VCALENDAR
