BEGIN:VCALENDAR
VERSION:2.0
PRODID:-//SwingAround//EN
BEGIN:VEVENT
DTSTART;VALUE=DATE:20261010
DTEND;VALUE=DATE:20261012
SUMMARY:Grand-Heidel-Bal 2026
DESCRIPTION:The second edition of Grand-Heidel-Bal, featuring two amazing teacher couples and a Saturday night party in Heidelberg's historic Old Town.
LOCATION:Heidelberg, Germany
URL:https://swingaround.app/events/grand-heidel-bal-2026
UID:event-252@swingaround.com
END:VEVENT
END:VCALENDAR
