BEGIN:VCALENDAR
VERSION:2.0
PRODID:-//SwingAround//EN
BEGIN:VEVENT
DTSTART;VALUE=DATE:20260515
DTEND;VALUE=DATE:20260518
SUMMARY:Great Lakes Shag Escape 2026
DESCRIPTION:Take classes with our headlining instructors and learn from an incredible lineup of VIP teachers who will each teach at least one class, judge competitions, and offer private lessons. We offer clas...
LOCATION:Dance Center Chicago, 3868 N Lincoln Ave, Chicago, IL 60613
URL:https://swingaround.app/events/great-lakes-shag-escape-2026
UID:event-177@swingaround.com
END:VEVENT
END:VCALENDAR
