BEGIN:VCALENDAR
VERSION:2.0
PRODID:-//SwingAround//EN
BEGIN:VEVENT
DTSTART;VALUE=DATE:20260611
DTEND;VALUE=DATE:20260615
SUMMARY:Hepcats Festival - Istanbul 2026
DESCRIPTION:A vibrant celebration of jazz music, dance, and culture featuring live music parties, authentic dance instruction, competitions, and performances.
LOCATION:Istanbul, Turkey
URL:https://swingaround.app/events/hepcats-festival-2026
UID:event-200@swingaround.com
END:VEVENT
END:VCALENDAR
