BEGIN:VCALENDAR
VERSION:2.0
PRODID:-//SwingAround//EN
BEGIN:VEVENT
DTSTART;VALUE=DATE:20260711
DTEND;VALUE=DATE:20260718
SUMMARY:Herrang Dance Camp Week 2
DESCRIPTION:HerrÃ¤ng Dance Camp is a welcoming creative haven in the Swedish countryside, where swing\ndancers from around the world gather to celebrate African American jazz cultureâlearning,\nconnecting, exp...
LOCATION:Sweden, Sweden
URL:https://swingaround.app/events/herrang-dance-camp-week-2-2026
UID:event-219@swingaround.com
END:VEVENT
END:VCALENDAR
