BEGIN:VCALENDAR
VERSION:2.0
PRODID:-//SwingAround//EN
BEGIN:VEVENT
DTSTART;VALUE=DATE:20260612
DTEND;VALUE=DATE:20260616
SUMMARY:Humdinger 2026
DESCRIPTION:THE vintage vacation for the Heppest Cats &amp; Kittens! 3 days &amp; nights of hot jumpin' rhythm &amp; blues, swing, doowop and rock 'n' roll. 10 live bands, 8 international DJs, 6 international ...
LOCATION:Pontins Sand Bay Holiday Park, Sand Bay, Kewstoke, Weston-super-Mare, United Kingdom
URL:https://swingaround.app/events/humdinger-2026
UID:event-212@swingaround.com
END:VEVENT
END:VCALENDAR
