BEGIN:VCALENDAR
VERSION:2.0
PRODID:-//SwingAround//EN
BEGIN:VEVENT
DTSTART;VALUE=DATE:20260430
DTEND;VALUE=DATE:20260504
SUMMARY:III Canarias Balboa Exchange 2026
DESCRIPTION:A weekend packed with music, parties, feasts, vermouth, and above all, tons of fun with the best Balboa community you can imagine.
LOCATION:Gran Canaria, Spain
URL:https://swingaround.app/events/iii-canarias-balboa-exchange-2026
UID:event-161@swingaround.com
END:VEVENT
END:VCALENDAR
