BEGIN:VCALENDAR
VERSION:2.0
PRODID:-//SwingAround//EN
BEGIN:VEVENT
DTSTART;VALUE=DATE:20260515
DTEND;VALUE=DATE:20260518
SUMMARY:Interamna Swing Festival 2026
DESCRIPTION:Festival at its 2nd edition in Terni, Umbria, Italy. The only festival in Umbria and the first in Terni that hosts international artists and offers the opportunity to explore and bring to life the ...
LOCATION:Musical Academy, Via Giacomo Benucci 19/21, Terni (Zona Maratta)
URL:https://swingaround.app/events/interamna-swing-festival-2026
UID:event-178@swingaround.com
END:VEVENT
END:VCALENDAR
