BEGIN:VCALENDAR
VERSION:2.0
PRODID:-//SwingAround//EN
BEGIN:VEVENT
DTSTART;VALUE=DATE:20260403
DTEND;VALUE=DATE:20260407
SUMMARY:IsThereHop? 2026
DESCRIPTION:Cheerful, spectacular, and energetic. Operating since 1997 with volunteer organizers, the festival aims to create a festival full of memorable and happy moments. The event features international in...
LOCATION:Zurich, Switzerland
URL:https://swingaround.app/events/istherehop-2026
UID:event-132@swingaround.com
END:VEVENT
END:VCALENDAR
