BEGIN:VCALENDAR
VERSION:2.0
PRODID:-//SwingAround//EN
BEGIN:VEVENT
DTSTART;VALUE=DATE:20260905
DTEND;VALUE=DATE:20260907
SUMMARY:Jazz Break & Knowledge Meetup with Odd Sweet 2026
DESCRIPTION:A meetup to bring together Luxembourg's Jazz and House dance communities and to explore the continuum of African American descendant dances (from Jazz to House), their common origin as well as thei...
LOCATION:Luxembourg, Luxembourg
URL:https://swingaround.app/events/jazz-break-knowedge-meetup-with-odd-sweet-2026
UID:event-237@swingaround.com
END:VEVENT
END:VCALENDAR
