BEGIN:VCALENDAR
VERSION:2.0
PRODID:-//SwingAround//EN
BEGIN:VEVENT
DTSTART;VALUE=DATE:20260410
DTEND;VALUE=DATE:20260413
SUMMARY:Jump Up North Festival 2026
DESCRIPTION:A cosy authentic jazz festival dedicated to offering a warm, friendly and accepting atmosphere for everyone while maintaining affordable price accessibility regardless of participants' financial si...
LOCATION:Billies - das Tanzstudio, Hamburg, Germany
URL:https://swingaround.app/events/jump-up-north-festival-2026
UID:event-136@swingaround.com
END:VEVENT
END:VCALENDAR
