BEGIN:VCALENDAR
VERSION:2.0
PRODID:-//SwingAround//EN
BEGIN:VEVENT
DTSTART;VALUE=DATE:20260327
DTEND;VALUE=DATE:20260330
SUMMARY:Jurassic Bal
DESCRIPTION:Your favourite dinosaur themed balboa event is coming back in 2026. 3 nights of parties, 2 days of workshops, competitions and more! Come and join us :D
LOCATION:Canberra, Australia
URL:https://swingaround.app/events/jurassic-bal-2026
UID:event-128@swingaround.com
END:VEVENT
END:VCALENDAR
