BEGIN:VCALENDAR
VERSION:2.0
PRODID:-//SwingAround//EN
BEGIN:VEVENT
DTSTART;VALUE=DATE:20260410
DTEND;VALUE=DATE:20260413
SUMMARY:Kind Of A Big Deal Weekend 2026
DESCRIPTION:Lindy Hop and Vernacular Jazz workshops, competitions, and social dancing! Featuring great instructors, with music from the Gordon Webster Band.
LOCATION:Boston, United States
URL:https://swingaround.app/events/kind-of-a-big-deal-weekend-2026
UID:event-139@swingaround.com
END:VEVENT
END:VCALENDAR
