BEGIN:VCALENDAR
VERSION:2.0
PRODID:-//SwingAround//EN
BEGIN:VEVENT
DTSTART;VALUE=DATE:20260320
DTEND;VALUE=DATE:20260323
SUMMARY:Klara & Cam in Athens!
DESCRIPTION:Klara and Cam are coming from Berlin straight to Athens, Greece, for a weekend including classes of 2 different levels, 3 parties, lots of Balboa, snacks and fun!
LOCATION:Athens, Greece
URL:https://swingaround.app/events/klara-cam-in-athens-2026
UID:event-113@swingaround.com
END:VEVENT
END:VCALENDAR
