BEGIN:VCALENDAR
VERSION:2.0
PRODID:-//SwingAround//EN
BEGIN:VEVENT
DTSTART;VALUE=DATE:20260424
DTEND;VALUE=DATE:20260427
SUMMARY:Krak The Shag! Hola Balboa! 2026
DESCRIPTION:7th edition featuring 3 nights of PARTIES in unique venues and 2 days of inspiring WORKSHOPS with instructors from the USA and Europe. Friday master classes at an invitational level, with two track...
LOCATION:Krakow, Poland
URL:https://swingaround.app/events/krak-the-shaga-hola-balboa-2026
UID:event-157@swingaround.com
END:VEVENT
END:VCALENDAR
