BEGIN:VCALENDAR
VERSION:2.0
PRODID:-//SwingAround//EN
BEGIN:VEVENT
DTSTART;VALUE=DATE:20260604
DTEND;VALUE=DATE:20260608
SUMMARY:Lakedance 2026
DESCRIPTION:The 2nd edition of our exchange at the beautiful Lake Constance.
LOCATION:Konstanz, Germany
URL:https://swingaround.app/events/lakedance-2026
UID:event-193@swingaround.com
END:VEVENT
END:VCALENDAR
