BEGIN:VCALENDAR
VERSION:2.0
PRODID:-//SwingAround//EN
BEGIN:VEVENT
DTSTART;VALUE=DATE:20260430
DTEND;VALUE=DATE:20260504
SUMMARY:Lazy River
DESCRIPTION:A weekend full of incredible music that never gets too fast, fabulous teachers, classes in multiple styles and loads of time for hangouts and recharge.
LOCATION:Vienna, Austria
URL:https://swingaround.app/events/lazy-river-2026
UID:event-162@swingaround.com
END:VEVENT
END:VCALENDAR
