BEGIN:VCALENDAR
VERSION:2.0
PRODID:-//SwingAround//EN
BEGIN:VEVENT
DTSTART;VALUE=DATE:20260605
DTEND;VALUE=DATE:20260608
SUMMARY:Liesel Hop
DESCRIPTION:We're so happy to be back after a looooong break! The third edition of the GÃ¶ttingen Lindy Exchange has again a very special topic. We will look at swing dance as a form of art. The beauty of impr...
LOCATION:GÃ¶ttingen, Germany
URL:https://swingaround.app/events/liesel-hop-2026
UID:event-196@swingaround.com
END:VEVENT
END:VCALENDAR
