BEGIN:VCALENDAR
VERSION:2.0
PRODID:-//SwingAround//EN
BEGIN:VEVENT
DTSTART;VALUE=DATE:20261113
DTEND;VALUE=DATE:20261116
SUMMARY:Lindy Academy
DESCRIPTION:A full weekend of focussed Lindy Hop classes with top international teachers. Held in the village of Titchfield in the autumn, Lindy Academy attracts lots of great dancers creating a good experienc...
LOCATION:Titchfield, Fareham, United Kingdom
URL:https://swingaround.app/events/lindy-academy-2026
UID:event-260@swingaround.com
END:VEVENT
END:VCALENDAR
