BEGIN:VCALENDAR
VERSION:2.0
PRODID:-//SwingAround//EN
BEGIN:VEVENT
DTSTART;VALUE=DATE:20260327
DTEND;VALUE=DATE:20260331
SUMMARY:Lindy Hop Special with Nils & Bianca
DESCRIPTION:We are welcoming Nils &amp; Bianca - royalty in air steps if you will - for a whole weekend full of classes and parties. They will share a lot of wisdom and we cannot wait!
LOCATION:msterdam, Netherlands
URL:https://swingaround.app/events/lindy-hop-special-with-nils-bianca-2026
UID:event-125@swingaround.com
END:VEVENT
END:VCALENDAR
