BEGIN:VCALENDAR
VERSION:2.0
PRODID:-//SwingAround//EN
BEGIN:VEVENT
DTSTART;VALUE=DATE:20261009
DTEND;VALUE=DATE:20261013
SUMMARY:Lindy Poh! Festival 2026
DESCRIPTION:The 4th edition of our Chilean way swing festival. A self-managed festival aimed at celebrating the unity of the swing community, promoting local and Latin American talent. Featuring classes, teste...
LOCATION:Santiago, Chile
URL:https://swingaround.app/events/lindy-poh-festival-2026
UID:event-251@swingaround.com
END:VEVENT
END:VCALENDAR
