BEGIN:VCALENDAR
VERSION:2.0
PRODID:-//SwingAround//EN
BEGIN:VEVENT
DTSTART;VALUE=DATE:20260312
DTEND;VALUE=DATE:20260317
SUMMARY:Lindyfest - The Great Southwest
DESCRIPTION:Join us for a weekend of Lindy hop magic!
LOCATION:Houston, TX, United States
URL:https://swingaround.app/events/lindyfest-the-great-southwest-2026
UID:event-97@swingaround.com
END:VEVENT
END:VCALENDAR
