BEGIN:VCALENDAR
VERSION:2.0
PRODID:-//SwingAround//EN
BEGIN:VEVENT
DTSTART;VALUE=DATE:20260320
DTEND;VALUE=DATE:20260324
SUMMARY:Lindytopia
DESCRIPTION:Join us in Perth for a weekend over three days and nights of weekend workshops and socials starring the energetic and talented Sondre &amp; Tanya, champions of Lindy Hop and Boogie Woogie. It'll be...
LOCATION:Perth, Australia
URL:https://swingaround.app/events/lindytopia-2026
UID:event-115@swingaround.com
END:VEVENT
END:VCALENDAR
