BEGIN:VCALENDAR
VERSION:2.0
PRODID:-//SwingAround//EN
BEGIN:VEVENT
DTSTART;VALUE=DATE:20260320
DTEND;VALUE=DATE:20260323
SUMMARY:Ljubljana Bunny Hop
DESCRIPTION:3rd edition of the cozy collegiate shag weekend event in Ljubljana, Slovenia. Classes with two teacher couples and two parties, including one with live music, performances, and competition!
LOCATION:Ljubljana, Slovenia
URL:https://swingaround.app/events/ljubljana-bunny-hop-2026
UID:event-107@swingaround.com
END:VEVENT
END:VCALENDAR
