BEGIN:VCALENDAR
VERSION:2.0
PRODID:-//SwingAround//EN
BEGIN:VEVENT
DTSTART;VALUE=DATE:20260612
DTEND;VALUE=DATE:20260615
SUMMARY:MÃ¡laga Balboa Weekend
DESCRIPTION:MÃ¡laga Balboa Weekend- Book your spot for the third edition of this vibrant festival located in the beautiful city of Malaga! This event promises a weekend full of music, dancing and good vibes th...
LOCATION:MÃ¡laga, Spain
URL:https://swingaround.app/events/ma-laga-balboa-weekend-2026
UID:event-204@swingaround.com
END:VEVENT
END:VCALENDAR
