BEGIN:VCALENDAR
VERSION:2.0
PRODID:-//SwingAround//EN
BEGIN:VEVENT
DTSTART;VALUE=DATE:20260521
DTEND;VALUE=DATE:20260525
SUMMARY:Madrid Swing Exchange 2026
DESCRIPTION:8th edition. Four days of live music, swing and blues, dance, tourism and tapas. Featuring 11 live bands over 3 nights, with each night presenting two swing bands and one blues band, plus 3 open da...
LOCATION:Sala Teatro Las Vegas, Madrid, Spain
URL:https://swingaround.app/events/madrid-swing-exchange-2026
UID:event-181@swingaround.com
END:VEVENT
END:VCALENDAR
