BEGIN:VCALENDAR
VERSION:2.0
PRODID:-//SwingAround//EN
BEGIN:VEVENT
DTSTART;VALUE=DATE:20261029
DTEND;VALUE=DATE:20261102
SUMMARY:Mainhatten Shuffle - Frankfurt Balboa Weekend 2026
DESCRIPTION:The 5th edition featuring another weekend filled with the love for Balboa, wonderful locations, amazing music, inspiring teachers and of course - the crazy Balboa competition! Features 4 parties, l...
LOCATION:Frankfurt, Germany
URL:https://swingaround.app/events/mainhatten-shuffle-frankfurt-balboa-weekend-2026
UID:event-257@swingaround.com
END:VEVENT
END:VCALENDAR
