BEGIN:VCALENDAR
VERSION:2.0
PRODID:-//SwingAround//EN
BEGIN:VEVENT
DTSTART;VALUE=DATE:20260508
DTEND;VALUE=DATE:20260511
SUMMARY:Maytime Mess Around
DESCRIPTION:Held in the village of Titchfield in the spring, Maytime Mess Around attracts lots of great dancers from all over the UK. The event is easily accessible with everything taking place at the fully eq...
LOCATION:Titchfield, Fareham, United Kingdom
URL:https://swingaround.app/events/maytime-mess-around-2026
UID:event-172@swingaround.com
END:VEVENT
END:VCALENDAR
