BEGIN:VCALENDAR
VERSION:2.0
PRODID:-//SwingAround//EN
BEGIN:VEVENT
DTSTART;VALUE=DATE:20260327
DTEND;VALUE=DATE:20260330
SUMMARY:Meet in the Middle
DESCRIPTION:While the Queen's and Kingston Swing dance community cannot claim to be the largest scene in the region, located at a middle point between a number of major centres, Queen's Swing Dance Club takes ...
LOCATION:Kingston, Ontario, Canada
URL:https://swingaround.app/events/meet-in-the-middle-2026
UID:event-123@swingaround.com
END:VEVENT
END:VCALENDAR
