BEGIN:VCALENDAR
VERSION:2.0
PRODID:-//SwingAround//EN
BEGIN:VEVENT
DTSTART;VALUE=DATE:20260320
DTEND;VALUE=DATE:20260323
SUMMARY:Meet The Music
DESCRIPTION:A weekend of musicality and solo jazz. Meet the Music brings together musicians and dancers to guide us through understanding Swing music and how we can use this knowledge to improve our dancing.
LOCATION:Toulouse, France
URL:https://swingaround.app/events/meet-the-music-2026
UID:event-119@swingaround.com
END:VEVENT
END:VCALENDAR
