BEGIN:VCALENDAR
VERSION:2.0
PRODID:-//SwingAround//EN
BEGIN:VEVENT
DTSTART;VALUE=DATE:20260423
DTEND;VALUE=DATE:20260427
SUMMARY:Menorca Lindy Exchange 2026
DESCRIPTION:An event where music, dance, tourism, and gastronomy come together to enjoy the best national and international bands. The weekend includes parties with DJs and live bands, Dixieland parades throug...
LOCATION:Plaça des Pins, Plaça des Pins, Ciutadella de Menorca, Spain
URL:https://swingaround.app/events/menorca-lindy-exchange-2026
UID:event-154@swingaround.com
END:VEVENT
END:VCALENDAR
