BEGIN:VCALENDAR
VERSION:2.0
PRODID:-//SwingAround//EN
BEGIN:VEVENT
DTSTART;VALUE=DATE:20260703
DTEND;VALUE=DATE:20260706
SUMMARY:Midnight Sun Swing Festival 2026
DESCRIPTION:Lindy Hop and Solo Jazz Classes with a Live Band in the Heart of Helsinki. The festival features top-level teachers during daytime, with social dancing on the dancefloor with live bands at night. A...
LOCATION:Hietsun Paviljonki
URL:https://swingaround.app/events/midnight-sun-swing-festival-2026
UID:event-215@swingaround.com
END:VEVENT
END:VCALENDAR
