BEGIN:VCALENDAR
VERSION:2.0
PRODID:-//SwingAround//EN
BEGIN:VEVENT
DTSTART;VALUE=DATE:20260612
DTEND;VALUE=DATE:20260615
SUMMARY:Midsummer Swing 2026
DESCRIPTION:Midsummer Swing is back for its 4th edition the weekend before Midsummer, with three days full of dancing and fun all over the beautiful city of Riga. The festival features Lindy Hop classes, solo ...
LOCATION:Riga, Latvia
URL:https://swingaround.app/events/midsummer-swing-2026
UID:event-205@swingaround.com
END:VEVENT
END:VCALENDAR
