BEGIN:VCALENDAR
VERSION:2.0
PRODID:-//SwingAround//EN
BEGIN:VEVENT
DTSTART;VALUE=DATE:20260501
DTEND;VALUE=DATE:20260504
SUMMARY:Minor Swing 2026
DESCRIPTION:A cosy and amazing event featuring live bands, dancing, classes, and refreshments at a dedicated dance venue. A weekend of balboa dancing in lovely spring.
LOCATION:Forum, Gothenburg, Sweden
URL:https://swingaround.app/events/minor-swing-2026
UID:event-164@swingaround.com
END:VEVENT
END:VCALENDAR
