BEGIN:VCALENDAR
VERSION:2.0
PRODID:-//SwingAround//EN
BEGIN:VEVENT
DTSTART;VALUE=DATE:20260501
DTEND;VALUE=DATE:20260504
SUMMARY:Montreal Bagel & Blues 2026
DESCRIPTION:A weekend of blues dancing, live music, workshops, and late night bagels with social dancing opportunities throughout the weekend.
LOCATION:MTL Palladium, 372 Saint-Catherine St W, 5th Floor, Ville-Marie, QC H3B 1A2, Canada
URL:https://swingaround.app/events/montreal-bagel-blues-2026
UID:event-168@swingaround.com
END:VEVENT
END:VCALENDAR
