BEGIN:VCALENDAR
VERSION:2.0
PRODID:-//SwingAround//EN
BEGIN:VEVENT
DTSTART;VALUE=DATE:20260430
DTEND;VALUE=DATE:20260504
SUMMARY:Mosel Hop 2026
DESCRIPTION:The 13th edition of the real May dance. Let's swing out at a real count castle. Featuring Lindy Hop workshops, a DJ team and live band.
LOCATION:Diez, Germany
URL:https://swingaround.app/events/mosel-hop-let-s-swing-out-at-a-real-count-castle-2026
UID:event-160@swingaround.com
END:VEVENT
END:VCALENDAR
