BEGIN:VCALENDAR
VERSION:2.0
PRODID:-//SwingAround//EN
BEGIN:VEVENT
DTSTART;VALUE=DATE:20260316
DTEND;VALUE=DATE:20260323
SUMMARY:Mozambique Afro Swing Exchange
DESCRIPTION:Dance, connect, and celebrate where rhythm meets roots! Join dancers from around the world in Maputo for a unique cultural exchange celebrating African dance, rhythms and Swing dance. Experience wo...
LOCATION:Maputo, Mozambique, Mozambique
URL:https://swingaround.app/events/mozambique-afro-swing-exchange-2026
UID:event-102@swingaround.com
END:VEVENT
END:VCALENDAR
