BEGIN:VCALENDAR
VERSION:2.0
PRODID:-//SwingAround//EN
BEGIN:VEVENT
DTSTART;VALUE=DATE:20261022
DTEND;VALUE=DATE:20261026
SUMMARY:Myotragus Swing Festival
DESCRIPTION:We invite you to paradise, Mallorca, for a weekend of dancing at the beach with the craziest swing festival! We will have a variety of lindy hop/balboa teachers, we will offer classes, tasters, inc...
LOCATION:Palmanova, Spain
URL:https://swingaround.app/events/myotragus-swing-festival-2026
UID:event-254@swingaround.com
END:VEVENT
END:VCALENDAR
