BEGIN:VCALENDAR
VERSION:2.0
PRODID:-//SwingAround//EN
BEGIN:VEVENT
DTSTART;VALUE=DATE:20260411
DTEND;VALUE=DATE:20260413
SUMMARY:Nice Swing Festival
DESCRIPTION:The Nice Swing Festival is welcoming you once again on the CÃ´te dâAzur for its 5th edition the weekend of the 11th and 12th of April 2026 in Nice. For this occasion, we are delighted to announce...
LOCATION:Nice, France
URL:https://swingaround.app/events/nice-swing-festival-2026
UID:event-142@swingaround.com
END:VEVENT
END:VCALENDAR
