BEGIN:VCALENDAR
VERSION:2.0
PRODID:-//SwingAround//EN
BEGIN:VEVENT
DTSTART;VALUE=DATE:20260320
DTEND;VALUE=DATE:20260323
SUMMARY:Niigata Swing Weekend
DESCRIPTION:It's very local with a nice atmosphere. Enjoy live music, meeting new friends, and trying local Japanese sake and food in Niigata City, Japan! 4 live bands &amp; two guest musicians: Clap Stomp Swi...
LOCATION:Niigata, Japan
URL:https://swingaround.app/events/niigata-swing-weekend-2026
UID:event-112@swingaround.com
END:VEVENT
END:VCALENDAR
