BEGIN:VCALENDAR
VERSION:2.0
PRODID:-//SwingAround//EN
BEGIN:VEVENT
DTSTART;VALUE=DATE:20260724
DTEND;VALUE=DATE:20260727
SUMMARY:Northwest Balboa Festival 2026
DESCRIPTION:Three nights of live music, workshops, practice sessions, comps, and dancing in sunny Seattle. All events take place at the historic Washington Hall, nestled in the Central District — a historicall...
LOCATION:Washington Hall
URL:https://swingaround.app/events/northwest-balboa-festival-2026
UID:event-223@swingaround.com
END:VEVENT
END:VCALENDAR
