BEGIN:VCALENDAR
VERSION:2.0
PRODID:-//SwingAround//EN
BEGIN:VEVENT
DTSTART;VALUE=DATE:20260729
DTEND;VALUE=DATE:20260804
SUMMARY:Novelläng - Swing in the Amalfi Coast 2026
DESCRIPTION:Five-day residential swing experience in Tramonti, tucked in the lush Monti Lattari on Italy's Amalfi Coast. All classes and parties will be held in Novella (Tramonti), in a wonderful private estat...
LOCATION:Private Estate, Via Casa Mario 3, Novella
URL:https://swingaround.app/events/novella-ng-swing-in-the-amalfi-coast-2026
UID:event-226@swingaround.com
END:VEVENT
END:VCALENDAR
