BEGIN:VCALENDAR
VERSION:2.0
PRODID:-//SwingAround//EN
BEGIN:VEVENT
DTSTART;VALUE=DATE:20270204
DTEND;VALUE=DATE:20270208
SUMMARY:Nubalboa
DESCRIPTION:Be ready and get your finest shoes, we are going to have a balboa blast! At one of the finest dance floor in Europe we will shuffle the heck out of Big Mama Swing Madrid's ballroom. We have a prett...
LOCATION:Madrid, Spain
URL:https://swingaround.app/events/nubalboa-2027
UID:event-265@swingaround.com
END:VEVENT
END:VCALENDAR
