BEGIN:VCALENDAR
VERSION:2.0
PRODID:-//SwingAround//EN
BEGIN:VEVENT
DTSTART;VALUE=DATE:20261009
DTEND;VALUE=DATE:20261012
SUMMARY:NY Lindy Exchange 2026
DESCRIPTION:An amazing weekend of creative classes featuring three days of workshops and three evenings of performances. The NEW YORK LINDY EXCHANGE (NYLX) was started in 2023 in order to create an annual inte...
LOCATION:New York City, United States
URL:https://swingaround.app/events/ny-lindy-exchange-2026
UID:event-250@swingaround.com
END:VEVENT
END:VCALENDAR
