BEGIN:VCALENDAR
VERSION:2.0
PRODID:-//SwingAround//EN
BEGIN:VEVENT
DTSTART;VALUE=DATE:20260504
DTEND;VALUE=DATE:20260511
SUMMARY:NYC Bal Week 2026
DESCRIPTION:A seven-day celebration of the balboa dance scene, inspired by the original Bal Week from Balboa Island in the 1930s. Classes from champion instructors, incredible live music, world-class competiti...
LOCATION:The Good Shepherd Church, 152 W. 66th St, New York, NY
URL:https://swingaround.app/events/nyc-bal-week-2026
UID:event-169@swingaround.com
END:VEVENT
END:VCALENDAR
