BEGIN:VCALENDAR
VERSION:2.0
PRODID:-//SwingAround//EN
BEGIN:VEVENT
DTSTART;VALUE=DATE:20260410
DTEND;VALUE=DATE:20260413
SUMMARY:O'Slow 2026
DESCRIPTION:A cozy weekend of Slow Balboa classes and social dancing. Around 6 hours of classes, 2 nights of excellent live music and a cosy tea dance on Sunday.
LOCATION:Årvoll Gård
URL:https://swingaround.app/events/o-slow-2026
UID:event-140@swingaround.com
END:VEVENT
END:VCALENDAR
