BEGIN:VCALENDAR
VERSION:2.0
PRODID:-//SwingAround//EN
BEGIN:VEVENT
DTSTART;VALUE=DATE:20260417
DTEND;VALUE=DATE:20260420
SUMMARY:Open the Arts Festival 2026
DESCRIPTION:A festival combining swing dancing with stage arts, offering classes in Lindy Hop, Aerials, Solo Jazz, Tap, Body Movement, Music, Writing, Rhythm &amp; Poetry, Comedy, and Improv Theater. Participa...
LOCATION:Saarlouis, Germany
URL:https://swingaround.app/events/open-the-arts-festival-2026
UID:event-147@swingaround.com
END:VEVENT
END:VCALENDAR
