BEGIN:VCALENDAR
VERSION:2.0
PRODID:-//SwingAround//EN
BEGIN:VEVENT
DTSTART;VALUE=DATE:20260820
DTEND;VALUE=DATE:20260824
SUMMARY:Oslo Swingjazz Festival 2026
DESCRIPTION:A high-end Jazz Festival with a great dance floor. Thursday pre-party with live jazz, Friday with 3 live bands plus DJs, Saturday with 4 live bands plus DJs, and Sunday featuring kids' jazz, tea da...
LOCATION:Sentralen
URL:https://swingaround.app/events/oslo-swingjazz-festival-2026
UID:event-230@swingaround.com
END:VEVENT
END:VCALENDAR
