BEGIN:VCALENDAR
VERSION:2.0
PRODID:-//SwingAround//EN
BEGIN:VEVENT
DTSTART;VALUE=DATE:20260612
DTEND;VALUE=DATE:20260615
SUMMARY:Oxford Lindy Exchange 2026
DESCRIPTION:Another friendly and stomping weekend of some of the best dance bands, DJs, activities, tasters, and the local dance community. 5 parties over three days featuring sensational live Swing music from...
LOCATION:St. Columbas URC, Oxford, United Kingdom
URL:https://swingaround.app/events/oxford-lindy-exchange-2026
UID:event-202@swingaround.com
END:VEVENT
END:VCALENDAR
